BEGIN:VCALENDAR
VERSION:2.0
PRODID:SchoolNow
CALSCALE:GREGORIAN
BEGIN:VEVENT
UID:e4997e3e-c6de-11f0-8b7e-0afff47f5237
DTSTAMP:20251121T133506Z
SUMMARY:Girls Varsity Softball vs Ephrata High School
LOCATION:Sterling Outdoor Fields - Sterling-Four-Plex Field #1
URL;VALUE=URI:https://www.eastmont206.org/sis/calendar/8807344/girls-varsit
 y-softball-vs-ephrata-high-school
DTSTART:20260312T230000Z
DTEND:20260313T004500Z
END:VEVENT
END:VCALENDAR
