BEGIN:VCALENDAR
VERSION:2.0
PRODID:SchoolNow
CALSCALE:GREGORIAN
BEGIN:VEVENT
UID:e4998208-c6de-11f0-9432-0afff47f5237
DTSTAMP:20251121T133506Z
SUMMARY:Girls Varsity Softball vs Ephrata High School
LOCATION:Sterling Outdoor Fields - Sterling-Four-Plex Field #1
URL;VALUE=URI:https://www.eastmont206.org/sis/calendar/8807348/girls-varsit
 y-softball-vs-ephrata-high-school
DTSTART:20260313T010000Z
DTEND:20260313T024500Z
END:VEVENT
END:VCALENDAR
