BEGIN:VCALENDAR
VERSION:2.0
PRODID:SchoolNow
CALSCALE:GREGORIAN
BEGIN:VEVENT
UID:e49984d8-c6de-11f0-b75b-0afff47f5237
DTSTAMP:20251121T133506Z
SUMMARY:Girls JV Softball vs Ephrata High School
LOCATION:Sterling Outdoor Fields - Sterling-Four-Plex Field #4
URL;VALUE=URI:https://www.eastmont206.org/sis/calendar/8807351/girls-jv-sof
 tball-vs-ephrata-high-school
DTSTART:20260313T010000Z
DTEND:20260313T023000Z
END:VEVENT
END:VCALENDAR
