BEGIN:VCALENDAR
VERSION:2.0
PRODID:SchoolNow
CALSCALE:GREGORIAN
BEGIN:VEVENT
UID:e4998988-c6de-11f0-8c5c-0afff47f5237
DTSTAMP:20251121T133506Z
SUMMARY:Girls Varsity Softball vs Wenatchee High School
LOCATION:Sterling Outdoor Fields - Sterling-Four-Plex Field #1
URL;VALUE=URI:https://www.eastmont206.org/sis/calendar/8807356/girls-varsit
 y-softball-vs-wenatchee-high-school
DTSTART:20260325T000000Z
DTEND:20260325T014500Z
END:VEVENT
END:VCALENDAR
