BEGIN:VCALENDAR
VERSION:2.0
PRODID:SchoolNow
CALSCALE:GREGORIAN
BEGIN:VEVENT
UID:e4998e4c-c6de-11f0-a1e4-0afff47f5237
DTSTAMP:20251121T133506Z
SUMMARY:Girls JV Softball vs AC Davis High School
LOCATION:Sterling Outdoor Fields - Sterling-Four-Plex Field #4
URL;VALUE=URI:https://www.eastmont206.org/sis/calendar/8807361/girls-jv-sof
 tball-vs-ac-davis-high-school
DTSTART:20260403T230000Z
DTEND:20260404T003000Z
END:VEVENT
END:VCALENDAR
