BEGIN:VCALENDAR
VERSION:2.0
PRODID:SchoolNow
CALSCALE:GREGORIAN
BEGIN:VEVENT
UID:e49991f8-c6de-11f0-88d5-0afff47f5237
DTSTAMP:20251121T133506Z
SUMMARY:Girls JV Softball vs AC Davis High School
LOCATION:Sterling Outdoor Fields - Sterling-Four-Plex Field #4
URL;VALUE=URI:https://www.eastmont206.org/sis/calendar/8807365/girls-jv-sof
 tball-vs-ac-davis-high-school
DTSTART:20260404T010000Z
DTEND:20260404T023000Z
END:VEVENT
END:VCALENDAR
