BEGIN:VCALENDAR
VERSION:2.0
PRODID:SchoolNow
CALSCALE:GREGORIAN
BEGIN:VEVENT
UID:e49992de-c6de-11f0-b821-0afff47f5237
DTSTAMP:20251121T133506Z
SUMMARY:Girls Varsity Softball vs AC Davis High School
LOCATION:Sterling Outdoor Fields - Sterling-Four-Plex Field #1
URL;VALUE=URI:https://www.eastmont206.org/sis/calendar/8807366/girls-varsit
 y-softball-vs-ac-davis-high-school
DTSTART:20260404T010000Z
DTEND:20260404T024500Z
END:VEVENT
END:VCALENDAR
