BEGIN:VCALENDAR
VERSION:2.0
PRODID:SchoolNow
CALSCALE:GREGORIAN
BEGIN:VEVENT
UID:e499986a-c6de-11f0-91ad-0afff47f5237
DTSTAMP:20251121T133506Z
SUMMARY:Girls Varsity Softball vs Sunnyside High School
LOCATION:Sterling Outdoor Fields - Sterling-Four-Plex Field #1
URL;VALUE=URI:https://www.eastmont206.org/sis/calendar/8807372/girls-varsit
 y-softball-vs-sunnyside-high-school
DTSTART:20260424T230000Z
DTEND:20260425T004500Z
END:VEVENT
END:VCALENDAR
