BEGIN:VCALENDAR
VERSION:2.0
PRODID:SchoolNow
CALSCALE:GREGORIAN
BEGIN:VEVENT
UID:e4999ef0-c6de-11f0-a9e7-0afff47f5237
DTSTAMP:20251121T133506Z
SUMMARY:Girls JV Softball vs Sunnyside High School
LOCATION:Sterling Outdoor Fields - Sterling-Four-Plex Field #4
URL;VALUE=URI:https://www.eastmont206.org/sis/calendar/8807379/girls-jv-sof
 tball-vs-sunnyside-high-school
DTSTART:20260425T010000Z
DTEND:20260425T023000Z
END:VEVENT
END:VCALENDAR
