BEGIN:VCALENDAR
VERSION:2.0
PRODID:SchoolNow
CALSCALE:GREGORIAN
BEGIN:VEVENT
UID:e499a292-c6de-11f0-9492-0afff47f5237
DTSTAMP:20251121T133506Z
SUMMARY:Girls JV Softball vs Moses Lake High School - JV
LOCATION:Sterling Outdoor Fields - Sterling-Four-Plex Field #4
URL;VALUE=URI:https://www.eastmont206.org/sis/calendar/8807383/girls-jv-sof
 tball-vs-moses-lake-high-school-jv
DTSTART:20260508T230000Z
DTEND:20260509T003000Z
END:VEVENT
END:VCALENDAR
