BEGIN:VCALENDAR
VERSION:2.0
PRODID:SchoolNow
CALSCALE:GREGORIAN
BEGIN:VEVENT
UID:e499a378-c6de-11f0-b710-0afff47f5237
DTSTAMP:20251121T133506Z
SUMMARY:Girls Varsity Softball vs Moses Lake High School
LOCATION:Sterling Outdoor Fields - Sterling-Four-Plex Field #1
URL;VALUE=URI:https://www.eastmont206.org/sis/calendar/8807384/girls-varsit
 y-softball-vs-moses-lake-high-school
DTSTART:20260508T230000Z
DTEND:20260509T004500Z
END:VEVENT
END:VCALENDAR
