BEGIN:VCALENDAR
VERSION:2.0
PRODID:SchoolNow
CALSCALE:GREGORIAN
BEGIN:VEVENT
UID:e499acec-c6de-11f0-b559-0afff47f5237
DTSTAMP:20251121T133506Z
SUMMARY:Girls JV Softball vs Moses Lake High School - JV
LOCATION:Sterling Outdoor Fields - Sterling-Four-Plex Field #4
URL;VALUE=URI:https://www.eastmont206.org/sis/calendar/8807393/girls-jv-sof
 tball-vs-moses-lake-high-school-jv
DTSTART:20260509T010000Z
DTEND:20260509T023000Z
END:VEVENT
END:VCALENDAR
