BEGIN:VCALENDAR
VERSION:2.0
PRODID:SchoolNow
CALSCALE:GREGORIAN
BEGIN:VEVENT
UID:e499b3c2-c6de-11f0-93e0-0afff47f5237
DTSTAMP:20251121T133506Z
SUMMARY:Girls Varsity Softball
LOCATION:Sterling Outdoor Fields - Sterling-Four-Plex Field #1
URL;VALUE=URI:https://www.eastmont206.org/sis/calendar/8807396/girls-varsit
 y-softball
DTSTART:20260512T230000Z
DTEND:20260513T004500Z
END:VEVENT
END:VCALENDAR
