BEGIN:VCALENDAR
VERSION:2.0
PRODID:SchoolNow
CALSCALE:GREGORIAN
BEGIN:VEVENT
UID:e499b886-c6de-11f0-800e-0afff47f5237
DTSTAMP:20251121T133506Z
SUMMARY:Girls Varsity Softball
LOCATION:Sterling Outdoor Fields - Sterling-Four-Plex Field #1
URL;VALUE=URI:https://www.eastmont206.org/sis/calendar/8807401/girls-varsit
 y-softball
DTSTART:20260516T200000Z
DTEND:20260516T214500Z
END:VEVENT
END:VCALENDAR
